BEGIN:VCALENDAR
VERSION:2.0
PRODID:-//eventon.com NONSGML v1.0//EN
CALSCALE:GREGORIAN
METHOD:PUBLISH
BEGIN:VEVENT
UID:69e4c388a3aee
DTSTAMP:20260419T115904Z
DTSTART:20250320T020000Z
DTEND:20250320T040000Z
LOCATION:
SUMMARY:CINEMALIVE
DESCRIPTION:Vive la experiencia del cine al aire libre dentro de nuestros P
 arques y Bosques de la Agencia Metropolitana\nhttps://bosquesamg.mx/events/
 cinemalive-56/
URL:https://bosquesamg.mx/events/cinemalive-56/
END:VEVENT
END:VCALENDAR