BEGIN:VCALENDAR
VERSION:2.0
PRODID:-//eventon.com NONSGML v1.0//EN
CALSCALE:GREGORIAN
METHOD:PUBLISH
BEGIN:VEVENT
UID:69e4d7b3e9346
DTSTAMP:20260419T132507Z
DTSTART:20260409T014500Z
DTEND:20260409T034500Z
LOCATION:
SUMMARY:CINEMALIVE
DESCRIPTION:🎬🌳 Vive la experiencia del cine al aire libre en los Parq
 ues y Bosques de la Agencia Disfruta una noche mágica bajo las estrellas\,
   rodeado de naturaleza y en un ambiente familiar. Trae tu manta\,  invita 
 a tus personas favoritas y prepárate para vivir el cine de una manera dife
 rente:[..]\nhttps://bosquesamg.mx/events/cinemalive-254/
URL:https://bosquesamg.mx/events/cinemalive-254/
END:VEVENT
END:VCALENDAR